BEGIN:VCALENDAR
VERSION:2.0
PRODID:-//Fishers Island Theater - ECPv6.15.20//NONSGML v1.0//EN
CALSCALE:GREGORIAN
METHOD:PUBLISH
X-ORIGINAL-URL:https://fitheater.org
X-WR-CALDESC:Events for Fishers Island Theater
REFRESH-INTERVAL;VALUE=DURATION:PT1H
X-Robots-Tag:noindex
X-PUBLISHED-TTL:PT1H
BEGIN:VTIMEZONE
TZID:America/New_York
BEGIN:DAYLIGHT
TZOFFSETFROM:-0500
TZOFFSETTO:-0400
TZNAME:EDT
DTSTART:20220313T070000
END:DAYLIGHT
BEGIN:STANDARD
TZOFFSETFROM:-0400
TZOFFSETTO:-0500
TZNAME:EST
DTSTART:20221106T060000
END:STANDARD
BEGIN:DAYLIGHT
TZOFFSETFROM:-0500
TZOFFSETTO:-0400
TZNAME:EDT
DTSTART:20230312T070000
END:DAYLIGHT
BEGIN:STANDARD
TZOFFSETFROM:-0400
TZOFFSETTO:-0500
TZNAME:EST
DTSTART:20231105T060000
END:STANDARD
BEGIN:DAYLIGHT
TZOFFSETFROM:-0500
TZOFFSETTO:-0400
TZNAME:EDT
DTSTART:20240310T070000
END:DAYLIGHT
BEGIN:STANDARD
TZOFFSETFROM:-0400
TZOFFSETTO:-0500
TZNAME:EST
DTSTART:20241103T060000
END:STANDARD
END:VTIMEZONE
BEGIN:VEVENT
DTSTART;TZID=America/New_York:20230623T124500
DTEND;TZID=America/New_York:20230623T143000
DTSTAMP:20260421T084603
CREATED:20230419T212602Z
LAST-MODIFIED:20230521T214149Z
UID:3573-1687524300-1687530600@fitheater.org
SUMMARY:Class of 2023 Graduation Ceremony
DESCRIPTION:The Fishers Island School will hold its Commencement Ceremony for the Class on 2023 on June 23 at 5:oo pm at the Fishers Island Theater. Everyone is most welcome to attend!
URL:https://fitheater.org/event/class-of-2023-graduation-ceremony/
CATEGORIES:Community Events
ATTACH;FMTTYPE=image/jpeg:https://fitheater.org/wp-content/uploads/2023/04/FIS-Grad-21JUN19-JTAhrens-1860crop.jpg
END:VEVENT
END:VCALENDAR